{"text_format":"3","workbook":"xlsx","n_sheets":1,"sheets":["Лист1"],"not_rendered":{"external_links":1},"read":"whole","date_system":"1900"}

{"sheet":"Лист1","index":0,"n_rows":603,"n_cols":12,"rows_kept":603,"merged":[[0,2,0,4],[0,7,0,10],[1,7,1,10],[47,2,47,3],[90,2,90,3],[134,2,134,3],[177,2,177,3],[221,2,221,3],[264,2,264,3],[306,2,306,3],[349,2,349,3],[391,2,391,3],[433,2,433,3],[475,2,475,3],[517,2,517,3],[559,2,559,3],[601,2,601,3],[602,2,602,4]]}
["Школа",null,"МБОУ \" Кощаковская СОШ СОШ \"",null,null,"Утвердил:","должность","Заведующая столовой "]
["Типовое примерное меню приготавливаемых блюд",{"$nulls":5},"фамилия","Агафонова Л.В.."]
["Возрастная категория",{"$nulls":3},"7-11 лет",null,"дата",null," ",2024]
[{"$nulls":7},"день","месяц","год"]
["Неделя","День недели","Прием пищи","Раздел меню","Блюда","Вес блюда, г","Белки","Жиры","Углеводы","Калорийность","№ рецептуры","Цена"]
[1,1,"Завтрак","гор.блюдо","ТЕФТЕЛИ ИЗ ГОВЯДИНЫ В СОУСЕ ТОМАТНОМ ","60/30",9.928,12.208,7.158,178,"ТТК  от 19.07.2023 г"]
[{"$nulls":4},"РИС ОТВАРНОЙ 150 г",150,3.834,5.434,40.014,224,"№304/2015г,Дели"]
[]
[{"$nulls":3},"гор.напиток",{"$f":"[1]Лист1!$C$16","v":"ЧАЙ С САХАРОМ  "},{"$f":"[1]Лист1!G16","v":"200/8"},0.011,0.007,7.998,32,"ТТК 2021г"]
[{"$nulls":3},"хлеб",{"$f":"[1]Лист1!$C$17","v":"ХЛЕБ ПШЕНИЧНЫЙ  "},{"$f":"[1]Лист1!G17","v":20},{"$f":"[1]Лист1!I17","v":1.52},{"$f":"[1]Лист1!J17","v":0.16},{"$f":"[1]Лист1!K17","v":9.84},47]
[{"$nulls":4},{"$f":"[1]Лист1!$C$18","v":"ХЛЕБ РЖАНО - ПШЕНИЧНЫЙ  "},20,{"$f":"[1]Лист1!I18","v":1},{"$f":"[1]Лист1!J18","v":0.2},9,44]
[{"$nulls":3},"фрукты"]
[]
[{"$nulls":3},"итого",null,530,19.711,19.327,84.078,{"$f":"SUM(J6:J13)","v":525},null,66.76]
[{"$f":"A6","v":1},{"$f":"B6","v":1},"Завтрак 2","фрукты"]
[]
[]
[{"$nulls":3},"итого",null,{"$f":"SUM(F15:F17)","v":0},{"$f":"SUM(G15:G17)","v":0},0,0,0,null,0]
[{"$f":"A6","v":1},{"$f":"B6","v":1},"Обед","закуска"]
[{"$nulls":3},"1 блюдо"]
[{"$nulls":3},"2 блюдо"]
[{"$nulls":3},"гарнир"]
[{"$nulls":3},"напиток"]
[{"$nulls":3},"хлеб бел."]
[{"$nulls":3},"хлеб черн."]
[]
[]
[{"$nulls":3},"итого",null,{"$f":"SUM(F19:F27)","v":0},{"$f":"SUM(G19:G27)","v":0},0,0,0,null,0]
[{"$f":"A6","v":1},{"$f":"B6","v":1},"Полдник","булочное"]
[{"$nulls":3},"напиток"]
[]
[]
[{"$nulls":3},"итого",null,{"$f":"SUM(F29:F32)","v":0},{"$f":"SUM(G29:G32)","v":0},0,0,0,null,0]
[{"$f":"A6","v":1},{"$f":"B6","v":1},"Ужин","гор.блюдо"]
[{"$nulls":3},"гарнир"]
[{"$nulls":3},"напиток"]
[{"$nulls":3},"хлеб"]
[]
[]
[{"$nulls":3},"итого",null,{"$f":"SUM(F34:F39)","v":0},{"$f":"SUM(G34:G39)","v":0},0,0,0,null,0]
[{"$f":"A6","v":1},{"$f":"B6","v":1},"Ужин 2","кисломол."]
[{"$nulls":3},"булочное"]
[{"$nulls":3},"напиток"]
[{"$nulls":3},"фрукты"]
[]
[]
[{"$nulls":3},"итого",null,{"$f":"SUM(F41:F46)","v":0},{"$f":"SUM(G41:G46)","v":0},0,0,0,null,0]
[{"$f":"A6","v":1},{"$f":"B6","v":1},"Итого за день:",null,null,{"$f":"F14+F18+F28+F33+F40+F47","v":530},{"$f":"G14+G18+G28+G33+G40+G47","v":19.711},19.327,84.078,525,null,{"$f":"L14+L18+L28+L33+L40+L47","v":66.76}]
[1,2,"Завтрак","гор.блюдо","ЖАРКОЕ ИЗ ПТИЦЫ (грудки куриные) 40/160 г (с чесноком) акт от 2023г","40/160",{"v":14.6,"d":"14.600"},14.012,29.09,301,"ТТК от 2023г "]
[{"$nulls":4},"САЛАТ ИЗ БЕЛОКОЧАННОЙ КАПУСТЫ 60 г (капуста,морковь,сахар,м/раст)",60,0.931,3.051,5.645,54,"№45/2015г,Дели"]
[{"$nulls":3},"гор.напиток","Чай с сахаром",{"$f":"[1]Лист1!G24","v":"200/8"},0.011,0.007,{"$f":"[1]Лист1!K24","v":7.998},32,"ТТК 2021г"]
[{"$nulls":3},"хлеб","ХЛЕБ ПШЕНИЧНЫЙ  ",{"$f":"[1]Лист1!G25","v":20},1.52,0.007,9.84,47]
[{"$nulls":4},"ХЛЕБ РЖАНО - ПШЕНИЧНЫЙ  ",{"$f":"[1]Лист1!G26","v":20},{"$f":"[1]Лист1!I25","v":1},{"$f":"[1]Лист1!J25","v":0.2},{"$f":"[1]Лист1!K25","v":9},44]
[{"$nulls":3},"фрукты","Яблоки",{"$f":"[1]Лист1!$G$23","v":120},0.48,0.48,11.76,56,"№ 338"]
[]
[]
[{"$nulls":3},"итого",null,568,{"$f":"SUM(G49:G56)","v":18.541999999999998},{"$f":"SUM(H49:H56)","v":17.757000000000005},{"$f":"SUM(I49:I56)","v":73.333},{"$f":"SUM(J49:J56)","v":534},null,66.76]
[{"$f":"A49","v":1},{"$f":"B49","v":2},"Завтрак 2","фрукты"]
[]
[]
[{"$nulls":3},"итого",null,{"$f":"SUM(F58:F60)","v":0},{"$f":"SUM(G58:G60)","v":0},{"$f":"SUM(H58:H60)","v":0},{"$f":"SUM(I58:I60)","v":0},{"$f":"SUM(J58:J60)","v":0},null,0]
[{"$f":"A49","v":1},{"$f":"B49","v":2},"Обед","закуска"]
[{"$nulls":3},"1 блюдо"]
[{"$nulls":3},"2 блюдо"]
[{"$nulls":3},"гарнир"]
[{"$nulls":3},"напиток"]
[{"$nulls":3},"хлеб бел."]
[{"$nulls":3},"хлеб черн."]
[]
[]
[{"$nulls":3},"итого",null,{"$f":"SUM(F62:F70)","v":0},{"$f":"SUM(G62:G70)","v":0},{"$f":"SUM(H62:H70)","v":0},{"$f":"SUM(I62:I70)","v":0},{"$f":"SUM(J62:J70)","v":0},null,0]
[{"$f":"A49","v":1},{"$f":"B49","v":2},"Полдник","булочное"]
[{"$nulls":3},"напиток"]
[]
[]
[{"$nulls":3},"итого",null,{"$f":"SUM(F72:F75)","v":0},{"$f":"SUM(G72:G75)","v":0},{"$f":"SUM(H72:H75)","v":0},{"$f":"SUM(I72:I75)","v":0},{"$f":"SUM(J72:J75)","v":0},null,{"$f":"SUM(L69:L75)","v":0}]
[{"$f":"A49","v":1},{"$f":"B49","v":2},"Ужин","гор.блюдо"]
[{"$nulls":3},"гарнир"]
[{"$nulls":3},"напиток"]
[{"$nulls":3},"хлеб"]
[]
[]
[{"$nulls":3},"итого",null,{"$f":"SUM(F77:F82)","v":0},{"$f":"SUM(G77:G82)","v":0},{"$f":"SUM(H77:H82)","v":0},{"$f":"SUM(I77:I82)","v":0},{"$f":"SUM(J77:J82)","v":0},null,0]
[{"$f":"A49","v":1},{"$f":"B49","v":2},"Ужин 2","кисломол."]
[{"$nulls":3},"булочное"]
[{"$nulls":3},"напиток"]
[{"$nulls":3},"фрукты"]
[]
[]
[{"$nulls":3},"итого",null,{"$f":"SUM(F84:F89)","v":0},{"$f":"SUM(G84:G89)","v":0},{"$f":"SUM(H84:H89)","v":0},{"$f":"SUM(I84:I89)","v":0},{"$f":"SUM(J84:J89)","v":0},null,0]
[{"$f":"A49","v":1},{"$f":"B49","v":2},"Итого за день:",null,null,{"$f":"F57+F61+F71+F76+F83+F90","v":568},{"$f":"G57+G61+G71+G76+G83+G90","v":18.541999999999998},{"$f":"H57+H61+H71+H76+H83+H90","v":17.757000000000005},{"$f":"I57+I61+I71+I76+I83+I90","v":73.333},{"$f":"J57+J61+J71+J76+J83+J90","v":534},null,{"$f":"L57+L61+L71+L76+L83+L90","v":66.76}]
[1,3,"Завтрак","гор.блюдо","ЧИКЕН 90 г (ТТК Декабрь 2022 г)",90,11.103,10.108,11.093,176,"ТТК № 2213 от 02.12.2022 г"]
[{"$nulls":4},"МАКАРОННЫЕ ИЗДЕЛИЯ ОТВАРНЫЕ  ",150,5.644,4.468,35.948,207,"№202/2015г,Дели"]
[{"$nulls":4},"САЛАТ ИЗ СВЕКЛЫ ОТВАРНОЙ (с маслом) 60 г",60,0.855,3.653,5.016,56,"№52/2015г,Дели"]
[{"$nulls":3},"гор.напиток","КОМПОТ ИЗ СВЕЖЕХ ЯБЛОК",200,0.08,0.8,11.94,49,"ТТК от 2021г"]
[{"$nulls":3},"хлеб","ХЛЕБ ПШЕНИЧНЫЙ  ",20,1.52,0.16,9.84,47]
[{"$nulls":4},"ХЛЕБ РЖАНО - ПШЕНИЧНЫЙ  ",20,1,0.2,9,44]
[{"$nulls":3},"фрукты"]
[]
[]
[{"$nulls":3},"итого",null,{"$f":"SUM(F92:F100)","v":540},{"$f":"SUM(G92:G100)","v":20.201999999999998},{"$f":"SUM(H92:H100)","v":19.389},{"$f":"SUM(I92:I100)","v":82.83699999999999},{"$f":"SUM(J92:J100)","v":579},null,66.76]
[{"$f":"A92","v":1},{"$f":"B92","v":3},"Завтрак 2","фрукты"]
[]
[]
[{"$nulls":3},"итого",null,{"$f":"SUM(F102:F104)","v":0},{"$f":"SUM(G102:G104)","v":0},{"$f":"SUM(H102:H104)","v":0},{"$f":"SUM(I102:I104)","v":0},{"$f":"SUM(J102:J104)","v":0},null,0]
[{"$f":"A92","v":1},{"$f":"B92","v":3},"Обед","закуска"]
[{"$nulls":3},"1 блюдо"]
[{"$nulls":3},"2 блюдо"]
[{"$nulls":3},"гарнир"]
[{"$nulls":3},"напиток"]
[{"$nulls":3},"хлеб бел."]
[{"$nulls":3},"хлеб черн."]
[]
[]
[{"$nulls":3},"итого",null,{"$f":"SUM(F106:F114)","v":0},{"$f":"SUM(G106:G114)","v":0},{"$f":"SUM(H106:H114)","v":0},{"$f":"SUM(I106:I114)","v":0},{"$f":"SUM(J106:J114)","v":0},null,0]
[{"$f":"A92","v":1},{"$f":"B92","v":3},"Полдник","булочное"]
[{"$nulls":3},"напиток"]
[]
[]
[{"$nulls":3},"итого",null,{"$f":"SUM(F116:F119)","v":0},{"$f":"SUM(G116:G119)","v":0},{"$f":"SUM(H116:H119)","v":0},{"$f":"SUM(I116:I119)","v":0},{"$f":"SUM(J116:J119)","v":0},null,{"$f":"SUM(L113:L119)","v":0}]
[{"$f":"A92","v":1},{"$f":"B92","v":3},"Ужин","гор.блюдо"]
[{"$nulls":3},"гарнир"]
[{"$nulls":3},"напиток"]
[{"$nulls":3},"хлеб"]
[]
[]
[{"$nulls":3},"итого",null,{"$f":"SUM(F121:F126)","v":0},{"$f":"SUM(G121:G126)","v":0},{"$f":"SUM(H121:H126)","v":0},{"$f":"SUM(I121:I126)","v":0},{"$f":"SUM(J121:J126)","v":0},null,0]
[{"$f":"A92","v":1},{"$f":"B92","v":3},"Ужин 2","кисломол."]
[{"$nulls":3},"булочное"]
[{"$nulls":3},"напиток"]
[{"$nulls":3},"фрукты"]
[]
[]
[{"$nulls":3},"итого",null,{"$f":"SUM(F128:F133)","v":0},{"$f":"SUM(G128:G133)","v":0},{"$f":"SUM(H128:H133)","v":0},{"$f":"SUM(I128:I133)","v":0},{"$f":"SUM(J128:J133)","v":0},null,0]
[{"$f":"A92","v":1},{"$f":"B92","v":3},"Итого за день:",null,null,{"$f":"F101+F105+F115+F120+F127+F134","v":540},{"$f":"G101+G105+G115+G120+G127+G134","v":20.201999999999998},{"$f":"H101+H105+H115+H120+H127+H134","v":19.389},{"$f":"I101+I105+I115+I120+I127+I134","v":82.83699999999999},{"$f":"J101+J105+J115+J120+J127+J134","v":579},null,{"$f":"L101+L105+L115+L120+L127+L134","v":66.76}]
[1,4,"Завтрак","гор.блюдо","ПЛОВ С ГОВЯДИНОЙ ","40/160",16.6,19.369,46.036,428,"ТТК №2737 от 07.12.2023"]
[{"$nulls":4},"САЛАТ ИЗ МОРКОВИ 60 г",60,0.702,3.051,6.72,"ТТК","ТТК"]
[{"$nulls":3},"гор.напиток","ЧАЙ С САХАРОМ  ","200/8",0.011,0.011,7.998,32,"ТТК 2021г"]
[{"$nulls":3},"хлеб","ХЛЕБ ПШЕНИЧНЫЙ  ",20,1.52,0.16,9.84,47]
[{"$nulls":4},"ХЛЕБ РЖАНО - ПШЕНИЧНЫЙ  ",20,1,0.2,9,44]
[{"$nulls":3},"фрукты"]
[]
[]
[{"$nulls":3},"итого",null,508,{"$f":"SUM(G136:G143)","v":19.833},{"$f":"SUM(H136:H143)","v":22.791},{"$f":"SUM(I136:I143)","v":79.594},{"$f":"SUM(J136:J143)","v":551},null,66.76]
[{"$f":"A136","v":1},{"$f":"B136","v":4},"Завтрак 2","фрукты"]
[]
[]
[{"$nulls":3},"итого",null,{"$f":"SUM(F145:F147)","v":0},{"$f":"SUM(G145:G147)","v":0},{"$f":"SUM(H145:H147)","v":0},{"$f":"SUM(I145:I147)","v":0},{"$f":"SUM(J145:J147)","v":0},null,0]
[{"$f":"A136","v":1},{"$f":"B136","v":4},"Обед","закуска"]
[{"$nulls":3},"1 блюдо"]
[{"$nulls":3},"2 блюдо"]
[{"$nulls":3},"гарнир"]
[{"$nulls":3},"напиток"]
[{"$nulls":3},"хлеб бел."]
[{"$nulls":3},"хлеб черн."]
[]
[]
[{"$nulls":3},"итого",null,{"$f":"SUM(F149:F157)","v":0},{"$f":"SUM(G149:G157)","v":0},{"$f":"SUM(H149:H157)","v":0},{"$f":"SUM(I149:I157)","v":0},{"$f":"SUM(J149:J157)","v":0},null,0]
[{"$f":"A136","v":1},{"$f":"B136","v":4},"Полдник","булочное"]
[{"$nulls":3},"напиток"]
[]
[]
[{"$nulls":3},"итого",null,{"$f":"SUM(F159:F162)","v":0},{"$f":"SUM(G159:G162)","v":0},{"$f":"SUM(H159:H162)","v":0},{"$f":"SUM(I159:I162)","v":0},{"$f":"SUM(J159:J162)","v":0},null,{"$f":"SUM(L156:L162)","v":0}]
[{"$f":"A136","v":1},{"$f":"B136","v":4},"Ужин","гор.блюдо"]
[{"$nulls":3},"гарнир"]
[{"$nulls":3},"напиток"]
[{"$nulls":3},"хлеб"]
[]
[]
[{"$nulls":3},"итого",null,{"$f":"SUM(F164:F169)","v":0},{"$f":"SUM(G164:G169)","v":0},{"$f":"SUM(H164:H169)","v":0},{"$f":"SUM(I164:I169)","v":0},{"$f":"SUM(J164:J169)","v":0},null,0]
[{"$f":"A136","v":1},{"$f":"B136","v":4},"Ужин 2","кисломол."]
[{"$nulls":3},"булочное"]
[{"$nulls":3},"напиток"]
[{"$nulls":3},"фрукты"]
[]
[]
[{"$nulls":3},"итого",null,{"$f":"SUM(F171:F176)","v":0},{"$f":"SUM(G171:G176)","v":0},{"$f":"SUM(H171:H176)","v":0},{"$f":"SUM(I171:I176)","v":0},{"$f":"SUM(J171:J176)","v":0},null,0]
[{"$f":"A136","v":1},{"$f":"B136","v":4},"Итого за день:",null,null,{"$f":"F144+F148+F158+F163+F170+F177","v":508},{"$f":"G144+G148+G158+G163+G170+G177","v":19.833},{"$f":"H144+H148+H158+H163+H170+H177","v":22.791},{"$f":"I144+I148+I158+I163+I170+I177","v":79.594},{"$f":"J144+J148+J158+J163+J170+J177","v":551},null,{"$f":"L144+L148+L158+L163+L170+L177","v":66.76}]
[1,5,"Завтрак","гор.блюдо","БИТОЧКИ РЫБНЫЕ ИЗ МИНТАЯ  ",90,16.206,5.875,5.924,135,"ТТК № 1515 от 28.07.2021 г"]
[{"$nulls":4},"ПЮРЕ КАРТОФЕЛЬНОЕ  ",150,3.282,4.657,22.027,146,"№312/2015г,Дели"]
[{"$nulls":4},"САЛАТ ИЗ КВАШЕНОЙ КАПУСТЫ 60 г",60,0.983,3.052,4.632,51,"№47/2015г,Дели"]
[{"$nulls":3},"гор.напиток","НАПИТОК ИЗ УРЮКА  ",200,0.8,0.064,18.46,79,"ТТК № 2693 от 14.09.2023 г"]
[{"$nulls":3},"хлеб","ХЛЕБ ПШЕНИЧНЫЙ  ",20,1.52,0.16,9.84,47]
[{"$nulls":4},"ХЛЕБ РЖАНО - ПШЕНИЧНЫЙ  ",20,1,0.2,9,44]
[{"$nulls":3},"фрукты"]
[]
[]
[{"$nulls":3},"итого",null,{"$f":"SUM(F179:F187)","v":540},{"$f":"SUM(G179:G187)","v":23.791},{"$f":"SUM(H179:H187)","v":14.008},{"$f":"SUM(I179:I187)","v":69.883},{"$f":"SUM(J179:J187)","v":502},null,66.76]
[{"$f":"A179","v":1},{"$f":"B179","v":5},"Завтрак 2","фрукты"]
[]
[]
[{"$nulls":3},"итого",null,{"$f":"SUM(F189:F191)","v":0},{"$f":"SUM(G189:G191)","v":0},{"$f":"SUM(H189:H191)","v":0},{"$f":"SUM(I189:I191)","v":0},{"$f":"SUM(J189:J191)","v":0},null,0]
[{"$f":"A179","v":1},{"$f":"B179","v":5},"Обед","закуска"]
[{"$nulls":3},"1 блюдо"]
[{"$nulls":3},"2 блюдо"]
[{"$nulls":3},"гарнир"]
[{"$nulls":3},"напиток"]
[{"$nulls":3},"хлеб бел."]
[{"$nulls":3},"хлеб черн."]
[]
[]
[{"$nulls":3},"итого",null,{"$f":"SUM(F193:F201)","v":0},{"$f":"SUM(G193:G201)","v":0},{"$f":"SUM(H193:H201)","v":0},{"$f":"SUM(I193:I201)","v":0},{"$f":"SUM(J193:J201)","v":0},null,0]
[{"$f":"A179","v":1},{"$f":"B179","v":5},"Полдник","булочное"]
[{"$nulls":3},"напиток"]
[]
[]
[{"$nulls":3},"итого",null,{"$f":"SUM(F203:F206)","v":0},{"$f":"SUM(G203:G206)","v":0},{"$f":"SUM(H203:H206)","v":0},{"$f":"SUM(I203:I206)","v":0},{"$f":"SUM(J203:J206)","v":0},null,{"$f":"SUM(L200:L206)","v":0}]
[{"$f":"A179","v":1},{"$f":"B179","v":5},"Ужин","гор.блюдо"]
[{"$nulls":3},"гарнир"]
[{"$nulls":3},"напиток"]
[{"$nulls":3},"хлеб"]
[]
[]
[{"$nulls":3},"итого",null,{"$f":"SUM(F208:F213)","v":0},{"$f":"SUM(G208:G213)","v":0},{"$f":"SUM(H208:H213)","v":0},{"$f":"SUM(I208:I213)","v":0},{"$f":"SUM(J208:J213)","v":0},null,0]
[{"$f":"A179","v":1},{"$f":"B179","v":5},"Ужин 2","кисломол."]
[{"$nulls":3},"булочное"]
[{"$nulls":3},"напиток"]
[{"$nulls":3},"фрукты"]
[]
[]
[{"$nulls":3},"итого",null,{"$f":"SUM(F215:F220)","v":0},{"$f":"SUM(G215:G220)","v":0},{"$f":"SUM(H215:H220)","v":0},{"$f":"SUM(I215:I220)","v":0},{"$f":"SUM(J215:J220)","v":0},null,0]
[{"$f":"A179","v":1},{"$f":"B179","v":5},"Итого за день:",null,null,{"$f":"F188+F192+F202+F207+F214+F221","v":540},{"$f":"G188+G192+G202+G207+G214+G221","v":23.791},{"$f":"H188+H192+H202+H207+H214+H221","v":14.008},{"$f":"I188+I192+I202+I207+I214+I221","v":69.883},{"$f":"J188+J192+J202+J207+J214+J221","v":502},null,{"$f":"L188+L192+L202+L207+L214+L221","v":66.76}]
[1,6,"Завтрак","гор.блюдо"]
[]
[{"$nulls":3},"гор.напиток"]
[{"$nulls":3},"хлеб"]
[]
[{"$nulls":3},"фрукты"]
[]
[]
[{"$nulls":3},"итого",null,{"$f":"SUM(F223:F230)","v":0},{"$f":"SUM(G223:G230)","v":0},{"$f":"SUM(H223:H230)","v":0},{"$f":"SUM(I223:I230)","v":0},{"$f":"SUM(J223:J230)","v":0}]
[{"$f":"A223","v":1},{"$f":"B223","v":6},"Завтрак 2","фрукты"]
[]
[]
[{"$nulls":3},"итого",null,{"$f":"SUM(F232:F234)","v":0},{"$f":"SUM(G232:G234)","v":0},{"$f":"SUM(H232:H234)","v":0},{"$f":"SUM(I232:I234)","v":0},{"$f":"SUM(J232:J234)","v":0},null,0]
[{"$f":"A223","v":1},{"$f":"B223","v":6},"Обед","закуска"]
[{"$nulls":3},"1 блюдо"]
[{"$nulls":3},"2 блюдо"]
[{"$nulls":3},"гарнир"]
[{"$nulls":3},"напиток"]
[{"$nulls":3},"хлеб бел."]
[{"$nulls":3},"хлеб черн."]
[]
[]
[{"$nulls":3},"итого",null,{"$f":"SUM(F236:F244)","v":0},{"$f":"SUM(G236:G244)","v":0},{"$f":"SUM(H236:H244)","v":0},{"$f":"SUM(I236:I244)","v":0},{"$f":"SUM(J236:J244)","v":0},null,0]
[{"$f":"A223","v":1},{"$f":"B223","v":6},"Полдник","булочное"]
[{"$nulls":3},"напиток"]
[]
[]
[{"$nulls":3},"итого",null,{"$f":"SUM(F246:F249)","v":0},{"$f":"SUM(G246:G249)","v":0},{"$f":"SUM(H246:H249)","v":0},{"$f":"SUM(I246:I249)","v":0},{"$f":"SUM(J246:J249)","v":0},null,{"$f":"SUM(L243:L249)","v":0}]
[{"$f":"A223","v":1},{"$f":"B223","v":6},"Ужин","гор.блюдо"]
[{"$nulls":3},"гарнир"]
[{"$nulls":3},"напиток"]
[{"$nulls":3},"хлеб"]
[]
[]
[{"$nulls":3},"итого",null,{"$f":"SUM(F251:F256)","v":0},{"$f":"SUM(G251:G256)","v":0},{"$f":"SUM(H251:H256)","v":0},{"$f":"SUM(I251:I256)","v":0},{"$f":"SUM(J251:J256)","v":0},null,0]
[{"$f":"A223","v":1},{"$f":"B223","v":6},"Ужин 2","кисломол."]
[{"$nulls":3},"булочное"]
[{"$nulls":3},"напиток"]
[{"$nulls":3},"фрукты"]
[]
[]
[{"$nulls":3},"итого",null,{"$f":"SUM(F258:F263)","v":0},{"$f":"SUM(G258:G263)","v":0},{"$f":"SUM(H258:H263)","v":0},{"$f":"SUM(I258:I263)","v":0},{"$f":"SUM(J258:J263)","v":0},null,0]
[{"$f":"A223","v":1},{"$f":"B223","v":6},"Итого за день:",null,null,{"$f":"F231+F235+F245+F250+F257+F264","v":0},{"$f":"G231+G235+G245+G250+G257+G264","v":0},{"$f":"H231+H235+H245+H250+H257+H264","v":0},{"$f":"I231+I235+I245+I250+I257+I264","v":0},{"$f":"J231+J235+J245+J250+J257+J264","v":0},null,{"$f":"L231+L235+L245+L250+L257+L264","v":0}]
[1,7,"Завтрак","гор.блюдо"]
[]
[{"$nulls":3},"гор.напиток"]
[{"$nulls":3},"хлеб"]
[{"$nulls":3},"фрукты"]
[]
[]
[{"$nulls":3},"итого",null,{"$f":"SUM(F266:F272)","v":0},{"$f":"SUM(G266:G272)","v":0},{"$f":"SUM(H266:H272)","v":0},{"$f":"SUM(I266:I272)","v":0},{"$f":"SUM(J266:J272)","v":0},null,{"$f":"SUM(L266:L272)","v":0}]
[{"$f":"A266","v":1},{"$f":"B266","v":7},"Завтрак 2","фрукты"]
[]
[]
[{"$nulls":3},"итого",null,{"$f":"SUM(F274:F276)","v":0},{"$f":"SUM(G274:G276)","v":0},{"$f":"SUM(H274:H276)","v":0},{"$f":"SUM(I274:I276)","v":0},{"$f":"SUM(J274:J276)","v":0},null,0]
[{"$f":"A266","v":1},{"$f":"B266","v":7},"Обед","закуска"]
[{"$nulls":3},"1 блюдо"]
[{"$nulls":3},"2 блюдо"]
[{"$nulls":3},"гарнир"]
[{"$nulls":3},"напиток"]
[{"$nulls":3},"хлеб бел."]
[{"$nulls":3},"хлеб черн."]
[]
[]
[{"$nulls":3},"итого",null,{"$f":"SUM(F278:F286)","v":0},{"$f":"SUM(G278:G286)","v":0},{"$f":"SUM(H278:H286)","v":0},{"$f":"SUM(I278:I286)","v":0},{"$f":"SUM(J278:J286)","v":0},null,0]
[{"$f":"A266","v":1},{"$f":"B266","v":7},"Полдник","булочное"]
[{"$nulls":3},"напиток"]
[]
[]
[{"$nulls":3},"итого",null,{"$f":"SUM(F288:F291)","v":0},{"$f":"SUM(G288:G291)","v":0},{"$f":"SUM(H288:H291)","v":0},{"$f":"SUM(I288:I291)","v":0},{"$f":"SUM(J288:J291)","v":0},null,{"$f":"SUM(L285:L291)","v":0}]
[{"$f":"A266","v":1},{"$f":"B266","v":7},"Ужин","гор.блюдо"]
[{"$nulls":3},"гарнир"]
[{"$nulls":3},"напиток"]
[{"$nulls":3},"хлеб"]
[]
[]
[{"$nulls":3},"итого",null,{"$f":"SUM(F293:F298)","v":0},{"$f":"SUM(G293:G298)","v":0},{"$f":"SUM(H293:H298)","v":0},{"$f":"SUM(I293:I298)","v":0},{"$f":"SUM(J293:J298)","v":0},null,0]
[{"$f":"A266","v":1},{"$f":"B266","v":7},"Ужин 2","кисломол."]
[{"$nulls":3},"булочное"]
[{"$nulls":3},"напиток"]
[{"$nulls":3},"фрукты"]
[]
[]
[{"$nulls":3},"итого",null,{"$f":"SUM(F300:F305)","v":0},{"$f":"SUM(G300:G305)","v":0},{"$f":"SUM(H300:H305)","v":0},{"$f":"SUM(I300:I305)","v":0},{"$f":"SUM(J300:J305)","v":0},null,0]
[{"$f":"A266","v":1},{"$f":"B266","v":7},"Итого за день:",null,null,{"$f":"F273+F277+F287+F292+F299+F306","v":0},{"$f":"G273+G277+G287+G292+G299+G306","v":0},{"$f":"H273+H277+H287+H292+H299+H306","v":0},{"$f":"I273+I277+I287+I292+I299+I306","v":0},{"$f":"J273+J277+J287+J292+J299+J306","v":0},null,{"$f":"L273+L277+L287+L292+L299+L306","v":0}]
[2,1,"Завтрак","гор.блюдо","КОТЛЕТЫ АППЕТИТНЫЕ МЯСО-КУРИНЫЕ 90 г",90,13.795,14.749,7.996,216,"ТТК от 01.11.2022 г"]
[{"$nulls":4},"КАША ГРЕЧНЕВАЯ ВЯЗКАЯ 150 г",150,3.462,4.643,22.028,143,"№303/2015г,Дели"]
[{"$nulls":3},"гор.напиток","ЧАЙ С САХАРОМ  ","200/8",0.011,0.007,7.998,32,"ТТК 2021г"]
[{"$nulls":4},"ПЕЧЕНЬЕ СДОБНОЕ С КУНЖУТОМ",30,0.33,0.06,1.14,7,"Акт от 2021г"]
[{"$nulls":3},"хлеб","ХЛЕБ ПШЕНИЧНЫЙ  ",20,1.52,0.16,9.84,47]
[{"$nulls":4},"ХЛЕБ РЖАНО - ПШЕНИЧНЫЙ ",20,1,0.2,9,44]
[{"$nulls":3},"фрукты","ПЛОДЫ И ЯГОДЫ СВЕЖИЕ (ЯБЛОКИ) 120 г",120,0.48,0.48,11.76,56,"№ 338"]
[]
[{"$nulls":3},"итого",null,518,{"$f":"SUM(G308:G315)","v":20.598},20.299,69.762,545,null,66.76]
[{"$f":"A308","v":2},{"$f":"B308","v":1},"Завтрак 2","фрукты"]
[]
[]
[{"$nulls":3},"итого",null,{"$f":"SUM(F317:F319)","v":0},{"$f":"SUM(G317:G319)","v":0},0,0,0,null,{"$f":"SUM(L317:L319)","v":0}]
[{"$f":"A308","v":2},{"$f":"B308","v":1},"Обед","закуска"]
[{"$nulls":3},"1 блюдо"]
[{"$nulls":3},"2 блюдо"]
[{"$nulls":3},"гарнир"]
[{"$nulls":3},"напиток"]
[{"$nulls":3},"хлеб бел."]
[{"$nulls":3},"хлеб черн."]
[]
[]
[{"$nulls":3},"итого",null,{"$f":"SUM(F321:F329)","v":0},{"$f":"SUM(G321:G329)","v":0},0,0,0,null,{"$f":"SUM(L321:L329)","v":0}]
[{"$f":"A308","v":2},{"$f":"B308","v":1},"Полдник","булочное"]
[{"$nulls":3},"напиток"]
[]
[]
[{"$nulls":3},"итого",null,{"$f":"SUM(F331:F334)","v":0},{"$f":"SUM(G331:G334)","v":0},0,0,0,null,{"$f":"SUM(L331:L334)","v":0}]
[{"$f":"A308","v":2},{"$f":"B308","v":1},"Ужин","гор.блюдо"]
[{"$nulls":3},"гарнир"]
[{"$nulls":3},"напиток"]
[{"$nulls":3},"хлеб"]
[]
[]
[{"$nulls":3},"итого",null,{"$f":"SUM(F336:F341)","v":0},{"$f":"SUM(G336:G341)","v":0},0,0,0,null,{"$f":"SUM(L336:L341)","v":0}]
[{"$f":"A308","v":2},{"$f":"B308","v":1},"Ужин 2","кисломол."]
[{"$nulls":3},"булочное"]
[{"$nulls":3},"напиток"]
[{"$nulls":3},"фрукты"]
[]
[]
[{"$nulls":3},"итого",null,{"$f":"SUM(F343:F348)","v":0},{"$f":"SUM(G343:G348)","v":0},0,0,0,null,{"$f":"SUM(L343:L348)","v":0}]
[{"$f":"A308","v":2},{"$f":"B308","v":1},"Итого за день:",null,null,{"$f":"F316+F320+F330+F335+F342+F349","v":518},{"$f":"G316+G320+G330+G335+G342+G349","v":20.598},20.299,69.762,545,null,{"$f":"L316+L320+L330+L335+L342+L349","v":66.76}]
[2,2,"Завтрак","гор.блюдо","ЖАРКОЕ ПО ДОМАШНЕМУ","40/160",15.583,16.16,28.835,"ТТК № 1871 от 13.04.2022 г","ТТК № 1871 от 13.04.2022 г"]
[{"$nulls":4},"САЛАТ ИЗ МОРКОВИ 60 г",60,0.702,3.051,6.72,58,"ТТК"]
[{"$nulls":3},"гор.напиток","ЧАЙ С САХАРОМ  ","200/8",0.011,0.007,7.998,32,"ТТК 2021г"]
[{"$nulls":3},"хлеб","ХЛЕБ РЖАНО - ПШЕНИЧНЫЙ  ",20,1,0.2,9,44]
[{"$nulls":4},"ХЛЕБ ПШЕНИЧНЫЙ  ",20,1.52,0.16,9.84,47]
[]
[]
[{"$nulls":3},"итого",null,568,{"$f":"SUM(G351:G357)","v":18.816},19.578,62.393,181,null,66.76]
[{"$f":"A351","v":2},{"$f":"B351","v":2},"Завтрак 2","фрукты"]
[]
[]
[{"$nulls":3},"итого",null,{"$f":"SUM(F359:F361)","v":0},{"$f":"SUM(G359:G361)","v":0},0,0,0,null,{"$f":"SUM(L359:L361)","v":0}]
[{"$f":"A351","v":2},{"$f":"B351","v":2},"Обед","закуска"]
[{"$nulls":3},"1 блюдо"]
[{"$nulls":3},"2 блюдо"]
[{"$nulls":3},"гарнир"]
[{"$nulls":3},"напиток"]
[{"$nulls":3},"хлеб бел."]
[{"$nulls":3},"хлеб черн."]
[]
[]
[{"$nulls":3},"итого",null,{"$f":"SUM(F363:F371)","v":0},{"$f":"SUM(G363:G371)","v":0},0,0,0,null,{"$f":"SUM(L363:L371)","v":0}]
[{"$f":"A351","v":2},{"$f":"B351","v":2},"Полдник","булочное"]
[{"$nulls":3},"напиток"]
[]
[]
[{"$nulls":3},"итого",null,{"$f":"SUM(F373:F376)","v":0},{"$f":"SUM(G373:G376)","v":0},0,0,0,null,{"$f":"SUM(L370:L376)","v":0}]
[{"$f":"A351","v":2},{"$f":"B351","v":2},"Ужин","гор.блюдо"]
[{"$nulls":3},"гарнир"]
[{"$nulls":3},"напиток"]
[{"$nulls":3},"хлеб"]
[]
[]
[{"$nulls":3},"итого",null,{"$f":"SUM(F378:F383)","v":0},{"$f":"SUM(G378:G383)","v":0},0,0,0,null,{"$f":"SUM(L378:L383)","v":0}]
[{"$f":"A351","v":2},{"$f":"B351","v":2},"Ужин 2","кисломол."]
[{"$nulls":3},"булочное"]
[{"$nulls":3},"напиток"]
[{"$nulls":3},"фрукты"]
[]
[]
[{"$nulls":3},"итого",null,{"$f":"SUM(F385:F390)","v":0},{"$f":"SUM(G385:G390)","v":0},0,0,0,null,{"$f":"SUM(L385:L390)","v":0}]
[{"$f":"A351","v":2},{"$f":"B351","v":2},"Итого за день:",null,null,{"$f":"F358+F362+F372+F377+F384+F391","v":568},{"$f":"G358+G362+G372+G377+G384+G391","v":18.816},19.578,62.393,181,null,{"$f":"L358+L362+L372+L377+L384+L391","v":66.76}]
[2,3,"Завтрак","гор.блюдо","БИФШТЕКС РУБЛЕНЫЙ ПО-ДОМАШНЕМУ 90 г",90,13.497,12.037,8.367,192,"ТТК от 1Ноября 2022 г"]
[{"$nulls":4},"МАКАРОННЫЕ ИЗДЕЛИЯ ОТВАРНЫЕ 150 г",150,5.644,4.468,35.948,207,"№202/2015г,Дели"]
[{"$nulls":4},"САЛАТ ИЗ СВЕКЛЫ ОТВАРНОЙ (с маслом) 60 г",60,0.855,3.653,5.016,56,"№52/2015г,Дели"]
[{"$nulls":3},"гор.напиток","ЧАЙ С САХАРОМ  ","200/8",0.011,0.007,7.99,32,"ТТК 2021г"]
[{"$nulls":3},"хлеб","ХЛЕБ ПШЕНИЧНЫЙ  ",20,1.52,0.16,9.84,47]
[{"$nulls":4},"ХЛЕБ РЖАНО - ПШЕНИЧНЫЙ ",20,1,0.2,9,44]
[{"$nulls":3},"фрукты"]
[{"$nulls":3},"итого",null,518,{"$f":"SUM(G393:G399)","v":22.526999999999997},20.525000000000002,76.161,578,null,66.76]
[{"$f":"A393","v":2},{"$f":"B393","v":3},"Завтрак 2","фрукты"]
[]
[]
[{"$nulls":3},"итого",null,{"$f":"SUM(F401:F403)","v":0},{"$f":"SUM(G401:G403)","v":0},0,0,0,null,{"$f":"SUM(L401:L403)","v":0}]
[{"$f":"A393","v":2},{"$f":"B393","v":3},"Обед","закуска"]
[{"$nulls":3},"1 блюдо"]
[{"$nulls":3},"2 блюдо"]
[{"$nulls":3},"гарнир"]
[{"$nulls":3},"напиток"]
[{"$nulls":3},"хлеб бел."]
[{"$nulls":3},"хлеб черн."]
[]
[]
[{"$nulls":3},"итого",null,{"$f":"SUM(F405:F413)","v":0},{"$f":"SUM(G405:G413)","v":0},0,0,0,null,{"$f":"SUM(L405:L413)","v":0}]
[{"$f":"A393","v":2},{"$f":"B393","v":3},"Полдник","булочное"]
[{"$nulls":3},"напиток"]
[]
[]
[{"$nulls":3},"итого",null,{"$f":"SUM(F415:F418)","v":0},{"$f":"SUM(G415:G418)","v":0},0,0,0,null,{"$f":"SUM(L412:L418)","v":0}]
[{"$f":"A393","v":2},{"$f":"B393","v":3},"Ужин","гор.блюдо"]
[{"$nulls":3},"гарнир"]
[{"$nulls":3},"напиток"]
[{"$nulls":3},"хлеб"]
[]
[]
[{"$nulls":3},"итого",null,{"$f":"SUM(F420:F425)","v":0},{"$f":"SUM(G420:G425)","v":0},0,0,0,null,{"$f":"SUM(L420:L425)","v":0}]
[{"$f":"A393","v":2},{"$f":"B393","v":3},"Ужин 2","кисломол."]
[{"$nulls":3},"булочное"]
[{"$nulls":3},"напиток"]
[{"$nulls":3},"фрукты"]
[]
[]
[{"$nulls":3},"итого",null,{"$f":"SUM(F427:F432)","v":0},{"$f":"SUM(G427:G432)","v":0},0,0,0,null,{"$f":"SUM(L427:L432)","v":0}]
[{"$f":"A393","v":2},{"$f":"B393","v":3},"Итого за день:",null,null,{"$f":"F400+F404+F414+F419+F426+F433","v":518},{"$f":"G400+G404+G414+G419+G426+G433","v":22.526999999999997},20.525000000000002,76.161,578,null,{"$f":"L400+L404+L414+L419+L426+L433","v":66.76}]
[2,4,"Завтрак",null,"САЛАТ ИЗ КВАШЕНОЙ КАПУСТЫ 60 г",60,0.983,3.052,4.632,51,"№47/2015г,Дели"]
[{"$nulls":3},"гор.блюдо","ПЛОВ С КУРИНЫМИ ГРУДКАМИ  ","40/160",15.448,19.298,45.883,426,"ТТК 2021г июль"]
[{"$nulls":3},"гор.напиток","НАПИТОК ИЗ УРЮКА  ",200,0.8,0.064,18.46,79,"ТТК № 2693 от 14.09.2023 г"]
[{"$nulls":3},"хлеб","ХЛЕБ РЖАНО - ПШЕНИЧНЫЙ  ",20,1,0.2,9,44]
[{"$nulls":4},"ХЛЕБ ПШЕНИЧНЫЙ  ",20,1.52,0.16,9.84,47]
[{"$nulls":3},"фрукты"]
[]
[{"$nulls":3},"итого",null,500,{"$f":"SUM(G435:G441)","v":19.751},22.773999999999997,87.815,647,null,66.76]
[{"$f":"A435","v":2},{"$f":"B435","v":4},"Завтрак 2","фрукты"]
[]
[]
[{"$nulls":3},"итого",null,{"$f":"SUM(F443:F445)","v":0},{"$f":"SUM(G443:G445)","v":0},0,0,0,null,{"$f":"SUM(L443:L445)","v":0}]
[{"$f":"A435","v":2},{"$f":"B435","v":4},"Обед","закуска"]
[{"$nulls":3},"1 блюдо"]
[{"$nulls":3},"2 блюдо"]
[{"$nulls":3},"гарнир"]
[{"$nulls":3},"напиток"]
[{"$nulls":3},"хлеб бел."]
[{"$nulls":3},"хлеб черн."]
[]
[]
[{"$nulls":3},"итого",null,{"$f":"SUM(F447:F455)","v":0},{"$f":"SUM(G447:G455)","v":0},0,0,0,null,{"$f":"SUM(L447:L455)","v":0}]
[{"$f":"A435","v":2},{"$f":"B435","v":4},"Полдник","булочное"]
[{"$nulls":3},"напиток"]
[]
[]
[{"$nulls":3},"итого",null,{"$f":"SUM(F457:F460)","v":0},{"$f":"SUM(G457:G460)","v":0},0,0,0,null,{"$f":"SUM(L454:L460)","v":0}]
[{"$f":"A435","v":2},{"$f":"B435","v":4},"Ужин","гор.блюдо"]
[{"$nulls":3},"гарнир"]
[{"$nulls":3},"напиток"]
[{"$nulls":3},"хлеб"]
[]
[]
[{"$nulls":3},"итого",null,{"$f":"SUM(F462:F467)","v":0},{"$f":"SUM(G462:G467)","v":0},0,0,0,null,{"$f":"SUM(L462:L467)","v":0}]
[{"$f":"A435","v":2},{"$f":"B435","v":4},"Ужин 2","кисломол."]
[{"$nulls":3},"булочное"]
[{"$nulls":3},"напиток"]
[{"$nulls":3},"фрукты"]
[]
[]
[{"$nulls":3},"итого",null,{"$f":"SUM(F469:F474)","v":0},{"$f":"SUM(G469:G474)","v":0},0,0,0,null,{"$f":"SUM(L469:L474)","v":0}]
[{"$f":"A435","v":2},{"$f":"B435","v":4},"Итого за день:",null,null,{"$f":"F442+F446+F456+F461+F468+F475","v":500},{"$f":"G442+G446+G456+G461+G468+G475","v":19.751},22.773999999999997,87.815,647,null,{"$f":"L442+L446+L456+L461+L468+L475","v":66.76}]
[2,5,"Завтрак",null,"САЛАТ ИЗ БЕЛОКОЧАННОЙ КАПУСТЫ   ",60,0.93,3.051,5.645,54,"№45/2015г,Дели"]
[{"$nulls":3},"гор.блюдо","ЁЖИКИ РЫБНЫЕ С РИСОМ В ТОМАТНОМ СОУСЕ 60/30 г (Акт 2024 г)","60/30",9.64,5.358,7.612,117,"ТТК от 2024"]
[{"$nulls":4},"ПЮРЕ КАРТОФЕЛЬНОЕ  ",150,3.282,4.657,22.027,146,"№312/2015г,Дели"]
[{"$nulls":3},"гор.напиток","КОМПОТ ИЗ СВЕЖИХ ПЛОДОВ (ЯБЛОКИ) 200 г",200,0.08,0.08,11.94,49,"ТТК от 2021г"]
[{"$nulls":3},"хлеб","ХЛЕБ РЖАНО - ПШЕНИЧНЫЙ  ",20,1,0.2,9,44]
[{"$nulls":4},"ХЛЕБ ПШЕНИЧНЫЙ  ",20,1.52,0.16,9.84,47]
[{"$nulls":3},"фрукты"]
[{"$nulls":3},"итого",null,540,{"$f":"SUM(G477:G483)","v":16.452},13.505999999999998,66.064,457,null,66.76]
[{"$f":"A477","v":2},{"$f":"B477","v":5},"Завтрак 2","фрукты"]
[]
[]
[{"$nulls":3},"итого",null,{"$f":"SUM(F485:F487)","v":0},{"$f":"SUM(G485:G487)","v":0},0,0,0,null,{"$f":"SUM(L485:L487)","v":0}]
[{"$f":"A477","v":2},{"$f":"B477","v":5},"Обед","закуска"]
[{"$nulls":3},"1 блюдо"]
[{"$nulls":3},"2 блюдо"]
[{"$nulls":3},"гарнир"]
[{"$nulls":3},"напиток"]
[{"$nulls":3},"хлеб бел."]
[{"$nulls":3},"хлеб черн."]
[]
[]
[{"$nulls":3},"итого",null,{"$f":"SUM(F489:F497)","v":0},{"$f":"SUM(G489:G497)","v":0},0,0,0,null,{"$f":"SUM(L489:L497)","v":0}]
[{"$f":"A477","v":2},{"$f":"B477","v":5},"Полдник","булочное"]
[{"$nulls":3},"напиток"]
[]
[]
[{"$nulls":3},"итого",null,{"$f":"SUM(F499:F502)","v":0},{"$f":"SUM(G499:G502)","v":0},0,0,0,null,{"$f":"SUM(L496:L502)","v":0}]
[{"$f":"A477","v":2},{"$f":"B477","v":5},"Ужин","гор.блюдо"]
[{"$nulls":3},"гарнир"]
[{"$nulls":3},"напиток"]
[{"$nulls":3},"хлеб"]
[]
[]
[{"$nulls":3},"итого",null,{"$f":"SUM(F504:F509)","v":0},{"$f":"SUM(G504:G509)","v":0},0,0,0,null,{"$f":"SUM(L504:L509)","v":0}]
[{"$f":"A477","v":2},{"$f":"B477","v":5},"Ужин 2","кисломол."]
[{"$nulls":3},"булочное"]
[{"$nulls":3},"напиток"]
[{"$nulls":3},"фрукты"]
[]
[]
[{"$nulls":3},"итого",null,{"$f":"SUM(F511:F516)","v":0},{"$f":"SUM(G511:G516)","v":0},0,0,0,null,{"$f":"SUM(L511:L516)","v":0}]
[{"$f":"A477","v":2},{"$f":"B477","v":5},"Итого за день:",null,null,{"$f":"F484+F488+F498+F503+F510+F517","v":540},{"$f":"G484+G488+G498+G503+G510+G517","v":16.452},13.505999999999998,66.064,457,null,{"$f":"L484+L488+L498+L503+L510+L517","v":66.76}]
[2,6,"Завтрак","гор.блюдо"]
[]
[{"$nulls":3},"гор.напиток"]
[{"$nulls":3},"хлеб"]
[{"$nulls":3},"фрукты"]
[]
[]
[{"$nulls":3},"итого",null,{"$f":"SUM(F519:F525)","v":0},{"$f":"SUM(G519:G525)","v":0},0,0,0,null,{"$f":"SUM(L519:L525)","v":0}]
[{"$f":"A519","v":2},{"$f":"B519","v":6},"Завтрак 2","фрукты"]
[]
[]
[{"$nulls":3},"итого",null,{"$f":"SUM(F527:F529)","v":0},{"$f":"SUM(G527:G529)","v":0},0,0,0,null,{"$f":"SUM(L527:L529)","v":0}]
[{"$f":"A519","v":2},{"$f":"B519","v":6},"Обед","закуска"]
[{"$nulls":3},"1 блюдо"]
[{"$nulls":3},"2 блюдо"]
[{"$nulls":3},"гарнир"]
[{"$nulls":3},"напиток"]
[{"$nulls":3},"хлеб бел."]
[{"$nulls":3},"хлеб черн."]
[]
[]
[{"$nulls":3},"итого",null,{"$f":"SUM(F531:F539)","v":0},{"$f":"SUM(G531:G539)","v":0},0,0,0,null,{"$f":"SUM(L531:L539)","v":0}]
[{"$f":"A519","v":2},{"$f":"B519","v":6},"Полдник","булочное"]
[{"$nulls":3},"напиток"]
[]
[]
[{"$nulls":3},"итого",null,{"$f":"SUM(F541:F544)","v":0},{"$f":"SUM(G541:G544)","v":0},0,0,0,null,{"$f":"SUM(L538:L544)","v":0}]
[{"$f":"A519","v":2},{"$f":"B519","v":6},"Ужин","гор.блюдо"]
[{"$nulls":3},"гарнир"]
[{"$nulls":3},"напиток"]
[{"$nulls":3},"хлеб"]
[]
[]
[{"$nulls":3},"итого",null,{"$f":"SUM(F546:F551)","v":0},{"$f":"SUM(G546:G551)","v":0},0,0,0,null,{"$f":"SUM(L546:L551)","v":0}]
[{"$f":"A519","v":2},{"$f":"B519","v":6},"Ужин 2","кисломол."]
[{"$nulls":3},"булочное"]
[{"$nulls":3},"напиток"]
[{"$nulls":3},"фрукты"]
[]
[]
[{"$nulls":3},"итого",null,{"$f":"SUM(F553:F558)","v":0},{"$f":"SUM(G553:G558)","v":0},0,0,0,null,{"$f":"SUM(L553:L558)","v":0}]
[{"$f":"A519","v":2},{"$f":"B519","v":6},"Итого за день:",null,null,{"$f":"F526+F530+F540+F545+F552+F559","v":0},{"$f":"G526+G530+G540+G545+G552+G559","v":0},0,0,0,null,{"$f":"L526+L530+L540+L545+L552+L559","v":0}]
[2,7,"Завтрак","гор.блюдо"]
[]
[{"$nulls":3},"гор.напиток"]
[{"$nulls":3},"хлеб"]
[{"$nulls":3},"фрукты"]
[]
[]
[{"$nulls":3},"итого",null,{"$f":"SUM(F561:F567)","v":0},{"$f":"SUM(G561:G567)","v":0},0,0,0,null,0]
[{"$f":"A561","v":2},{"$f":"B561","v":7},"Завтрак 2","фрукты"]
[]
[]
[{"$nulls":3},"итого",null,{"$f":"SUM(F569:F571)","v":0},{"$f":"SUM(G569:G571)","v":0},0,0,0,null,{"$f":"SUM(L569:L571)","v":0}]
[{"$f":"A561","v":2},{"$f":"B561","v":7},"Обед","закуска"]
[{"$nulls":3},"1 блюдо"]
[{"$nulls":3},"2 блюдо"]
[{"$nulls":3},"гарнир"]
[{"$nulls":3},"напиток"]
[{"$nulls":3},"хлеб бел."]
[{"$nulls":3},"хлеб черн."]
[]
[]
[{"$nulls":3},"итого",null,{"$f":"SUM(F573:F581)","v":0},{"$f":"SUM(G573:G581)","v":0},0,0,0,null,{"$f":"SUM(L573:L581)","v":0}]
[{"$f":"A561","v":2},{"$f":"B561","v":7},"Полдник","булочное"]
[{"$nulls":3},"напиток"]
[]
[]
[{"$nulls":3},"итого",null,{"$f":"SUM(F583:F586)","v":0},{"$f":"SUM(G583:G586)","v":0},0,0,0,null,{"$f":"SUM(L580:L586)","v":0}]
[{"$f":"A561","v":2},{"$f":"B561","v":7},"Ужин","гор.блюдо"]
[{"$nulls":3},"гарнир"]
[{"$nulls":3},"напиток"]
[{"$nulls":3},"хлеб"]
[]
[]
[{"$nulls":3},"итого",null,{"$f":"SUM(F588:F593)","v":0},{"$f":"SUM(G588:G593)","v":0},0,0,0,null,{"$f":"SUM(L588:L593)","v":0}]
[{"$f":"A561","v":2},{"$f":"B561","v":7},"Ужин 2","кисломол."]
[{"$nulls":3},"булочное"]
[{"$nulls":3},"напиток"]
[{"$nulls":3},"фрукты"]
[]
[]
[{"$nulls":3},"итого",null,{"$f":"SUM(F595:F600)","v":0},{"$f":"SUM(G595:G600)","v":0},0,0,0,null,{"$f":"SUM(L595:L600)","v":0}]
[{"$f":"A561","v":2},{"$f":"B561","v":7},"Итого за день:",null,null,{"$f":"F568+F572+F582+F587+F594+F601","v":0},{"$f":"G568+G572+G582+G587+G594+G601","v":0},0,0,0,null,{"$f":"L568+L572+L582+L587+L594+L601","v":0}]
[null,null,"Среднее значение за период:",null,null,5300,180.626,"186,0,23",820.442,5671,null,667.6]